BEGIN:VCALENDAR
VERSION:2.0
PRODID:-//Kauffman Museum - ECPv6.15.17.1//NONSGML v1.0//EN
CALSCALE:GREGORIAN
METHOD:PUBLISH
X-WR-CALNAME:Kauffman Museum
X-ORIGINAL-URL:https://kauffmanmuseum.org
X-WR-CALDESC:Events for Kauffman Museum
REFRESH-INTERVAL;VALUE=DURATION:PT1H
X-Robots-Tag:noindex
X-PUBLISHED-TTL:PT1H
BEGIN:VTIMEZONE
TZID:America/Chicago
BEGIN:DAYLIGHT
TZOFFSETFROM:-0600
TZOFFSETTO:-0500
TZNAME:CDT
DTSTART:20190310T080000
END:DAYLIGHT
BEGIN:STANDARD
TZOFFSETFROM:-0500
TZOFFSETTO:-0600
TZNAME:CST
DTSTART:20191103T070000
END:STANDARD
BEGIN:DAYLIGHT
TZOFFSETFROM:-0600
TZOFFSETTO:-0500
TZNAME:CDT
DTSTART:20200308T080000
END:DAYLIGHT
BEGIN:STANDARD
TZOFFSETFROM:-0500
TZOFFSETTO:-0600
TZNAME:CST
DTSTART:20201101T070000
END:STANDARD
BEGIN:DAYLIGHT
TZOFFSETFROM:-0600
TZOFFSETTO:-0500
TZNAME:CDT
DTSTART:20210314T080000
END:DAYLIGHT
BEGIN:STANDARD
TZOFFSETFROM:-0500
TZOFFSETTO:-0600
TZNAME:CST
DTSTART:20211107T070000
END:STANDARD
END:VTIMEZONE
BEGIN:VEVENT
DTSTART;VALUE=DATE:20200307
DTEND;VALUE=DATE:20200308
DTSTAMP:20260420T034942
CREATED:20200218T174935Z
LAST-MODIFIED:20200608T212354Z
UID:3244-1583539200-1583625599@kauffmanmuseum.org
SUMMARY:First Saturday Bird Walk
DESCRIPTION:TIME TBD \nJoin experienced birders as they spot feathered friends! \nThe walk departs from the kiosk in the museum parking lot for a mile-and-a-half hike through Chisholm Park and along the Sand Creek Trail. Be prepared for some unpaved/steep terrain. Binoculars and a bird book are recommended but not required. Children accompanied by an adult are welcome but should be able to remain quiet so they don’t scare away the birds!
URL:https://kauffmanmuseum.org/event/first-saturday-bird-walk-2/
LOCATION:Kauffman Museum\, 27th & Main St.\, North Newton\, KS\, 67117\, United States
CATEGORIES:Bird Walk,Intergenerational
ORGANIZER;CN="Andi Schmidt Andres":MAILTO:asa@bethelks.edu
END:VEVENT
END:VCALENDAR