BEGIN:VCALENDAR
VERSION:2.0
PRODID:-//Kauffman Museum - ECPv6.15.17.1//NONSGML v1.0//EN
CALSCALE:GREGORIAN
METHOD:PUBLISH
X-ORIGINAL-URL:https://kauffmanmuseum.org
X-WR-CALDESC:Events for Kauffman Museum
REFRESH-INTERVAL;VALUE=DURATION:PT1H
X-Robots-Tag:noindex
X-PUBLISHED-TTL:PT1H
BEGIN:VTIMEZONE
TZID:America/Chicago
BEGIN:DAYLIGHT
TZOFFSETFROM:-0600
TZOFFSETTO:-0500
TZNAME:CDT
DTSTART:20220313T080000
END:DAYLIGHT
BEGIN:STANDARD
TZOFFSETFROM:-0500
TZOFFSETTO:-0600
TZNAME:CST
DTSTART:20221106T070000
END:STANDARD
BEGIN:DAYLIGHT
TZOFFSETFROM:-0600
TZOFFSETTO:-0500
TZNAME:CDT
DTSTART:20230312T080000
END:DAYLIGHT
BEGIN:STANDARD
TZOFFSETFROM:-0500
TZOFFSETTO:-0600
TZNAME:CST
DTSTART:20231105T070000
END:STANDARD
BEGIN:DAYLIGHT
TZOFFSETFROM:-0600
TZOFFSETTO:-0500
TZNAME:CDT
DTSTART:20240310T080000
END:DAYLIGHT
BEGIN:STANDARD
TZOFFSETFROM:-0500
TZOFFSETTO:-0600
TZNAME:CST
DTSTART:20241103T070000
END:STANDARD
END:VTIMEZONE
BEGIN:VEVENT
DTSTART;TZID=America/Chicago:20230107T080000
DTEND;TZID=America/Chicago:20230107T120000
DTSTAMP:20260419T092605
CREATED:20221118T212917Z
LAST-MODIFIED:20221118T212917Z
UID:9846-1673078400-1673092800@kauffmanmuseum.org
SUMMARY:First Saturday Bird Walk
DESCRIPTION:Our First Saturday Bird Walks depart from the kiosk in the museum parking lot for a mile-and-a-half hike through Chisholm Park and along Sand Creek Trail. Be prepared for some unpaved/steep terrain and chilly winter weather. Binoculars and a bird book are recommended but not required. Children accompanied by an adult are welcome but should be able to remain quiet so they don’t scare away the birds!\n\nFree and open to the public.
URL:https://kauffmanmuseum.org/event/first-saturday-bird-walk-6/
CATEGORIES:Bird Walk,Nature
ATTACH;FMTTYPE=image/jpeg:https://kauffmanmuseum.org/wp-content/uploads/2020/05/633.1-Warbling-Vireo-scaled.jpeg
END:VEVENT
BEGIN:VEVENT
DTSTART;TZID=America/Chicago:20230128T120000
DTEND;TZID=America/Chicago:20230128T160000
DTSTAMP:20260419T092605
CREATED:20221118T213629Z
LAST-MODIFIED:20230127T163809Z
UID:9852-1674907200-1674921600@kauffmanmuseum.org
SUMMARY:Celebrate Kansas Day! at Kauffman Museum
DESCRIPTION:Celebrate Kansas Day! at Kauffman Museum. Mark your calendars for this free Kansas Day event at Kauffman Museum\, happening on Saturday\, January 28\, 2023 from 12:00–4:00pm.  \nSCHEDULE:\nFood in the Museum Parking Lot\, 11:30 a.m.-4:30 p.m.\nSage & Juliette Coffee • Tacos Ana’s • Shalom Mennonite / New Creation Youth Group \nActivities in and around Kauffman Museum\nIn the Museum auditorium\n• 1 p.m. – A Songwriter Celebrates Kansas in Song: Annie Wilson\, educator/rancher/singer-songwriter\, Chase County\n• 2 p.m. – Faces: A Kansas Fine Art Portrait Project: Dave Lieker\, photographer\, Emporia\n• 3 p.m. – Muralist Mexicana: The Challenge and Celebration of Urban Mural Arts: Vania Soto\, artist\, Kansas City \nIndoor Activities and Artist Demonstrations\nWheat Weaving – Felice Goering\nEt Cetera Shop Loom Weaving – Carol Goering\nReed Screen Weaving – Esther Eash\nWatercolor – Susan Bartel\nCeramics – Abby Chappel Deckert\nWool Spinning – Marnette Hatchett\nPysanky Eggs – Janet Regier \nOutdoor Activities\, Crafts and Demonstrations Collaborative Mural\nChisholm Trail History Tours (12:30 p.m. &  2 p.m.) • Scavenger Hunt • Buffalo Chip Tic Tac Toe • Prairie Dog Corn Hole • Native American Teepee • Blacksmith Bill Moffet • Rope Making • Corn Grinding • Popcorn Popping • Vintage Washing Machines • Hay Rack Rides • Old-fashioned Schoolyard Games • Farmhouse open and heated \nHandcrafted Kansas Cookie Sale \nRaffle for 12 pints of Salted Creamery Artisan Ice Cream
URL:https://kauffmanmuseum.org/event/celebrate-kansas-day-at-kauffman-museum/
CATEGORIES:Kansas Day!
ATTACH;FMTTYPE=image/jpeg:https://kauffmanmuseum.org/wp-content/uploads/2022/11/2023_KM_Kansas-Day_Event-Website-4.jpg
END:VEVENT
END:VCALENDAR