BEGIN:VCALENDAR
VERSION:2.0
PRODID:-//Kauffman Museum - ECPv6.15.17.1//NONSGML v1.0//EN
CALSCALE:GREGORIAN
METHOD:PUBLISH
X-ORIGINAL-URL:https://kauffmanmuseum.org
X-WR-CALDESC:Events for Kauffman Museum
REFRESH-INTERVAL;VALUE=DURATION:PT1H
X-Robots-Tag:noindex
X-PUBLISHED-TTL:PT1H
BEGIN:VTIMEZONE
TZID:America/Chicago
BEGIN:DAYLIGHT
TZOFFSETFROM:-0600
TZOFFSETTO:-0500
TZNAME:CDT
DTSTART:20210314T080000
END:DAYLIGHT
BEGIN:STANDARD
TZOFFSETFROM:-0500
TZOFFSETTO:-0600
TZNAME:CST
DTSTART:20211107T070000
END:STANDARD
BEGIN:DAYLIGHT
TZOFFSETFROM:-0600
TZOFFSETTO:-0500
TZNAME:CDT
DTSTART:20220313T080000
END:DAYLIGHT
BEGIN:STANDARD
TZOFFSETFROM:-0500
TZOFFSETTO:-0600
TZNAME:CST
DTSTART:20221106T070000
END:STANDARD
BEGIN:DAYLIGHT
TZOFFSETFROM:-0600
TZOFFSETTO:-0500
TZNAME:CDT
DTSTART:20230312T080000
END:DAYLIGHT
BEGIN:STANDARD
TZOFFSETFROM:-0500
TZOFFSETTO:-0600
TZNAME:CST
DTSTART:20231105T070000
END:STANDARD
END:VTIMEZONE
BEGIN:VEVENT
DTSTART;TZID=America/Chicago:20221203T080000
DTEND;TZID=America/Chicago:20221203T090000
DTSTAMP:20260419T105937
CREATED:20221118T212531Z
LAST-MODIFIED:20221118T213003Z
UID:9842-1670054400-1670058000@kauffmanmuseum.org
SUMMARY:First Saturday Bird Walk
DESCRIPTION:Our First Saturday Bird Walks depart from the kiosk in the museum parking lot for a mile-and-a-half hike through Chisholm Park and along Sand Creek Trail. Be prepared for some unpaved/steep terrain and chilly winter weather. Binoculars and a bird book are recommended but not required. Children accompanied by an adult are welcome but should be able to remain quiet so they don’t scare away the birds!\n\nFree and open to the public.
URL:https://kauffmanmuseum.org/event/first-saturday-bird-walk-dec-3-2022-8-a-m/
CATEGORIES:Bird Walk,Nature
ATTACH;FMTTYPE=image/jpeg:https://kauffmanmuseum.org/wp-content/uploads/2020/05/IMG_9135-scaled.jpg
END:VEVENT
BEGIN:VEVENT
DTSTART;TZID=America/Chicago:20221203T100000
DTEND;TZID=America/Chicago:20221203T163000
DTSTAMP:20260419T105937
CREATED:20221118T213306Z
LAST-MODIFIED:20221125T233943Z
UID:9849-1670061600-1670085000@kauffmanmuseum.org
SUMMARY:Five Places of Christmas at Kauffman Museum
DESCRIPTION:Newton-area museums welcome the public to “Five Places of Christmas” from 10 a.m. to 4 p.m. on Saturday\, Dec. 3. The annual holiday open house is a collaborative event among the Carriage Factory Art Gallery\, Harvey County Historical Museum\, Kauffman Museum\, Warkentin House\, and Bethel College Women’s Association. This year\, Kauffman Museum will offer museum exhibits\, gift shop discount tables\, and refreshments while the Bethel College Women’s Association will host a Christmas sale featuring handmade crafts and baked goods at the Goerz House on the Bethel College campus. Warkentin House will showcase holiday decorations in every room and the Carriage Factory Gallery will provide materials for make-and-take ornaments from 10:00-12 noon. Harvey County Historical Museum invites guests to explore the videos\, blogs and photos on its website. All participating locations will be open with free admission. Be sure to contact each site for its COVID and safety requirements.
URL:https://kauffmanmuseum.org/event/five-places-of-christmas-at-kauffman-museum-3/
CATEGORIES:Museum Event,Store
ATTACH;FMTTYPE=image/png:https://kauffmanmuseum.org/wp-content/uploads/2022/11/five-places-small-630x400-1.png
END:VEVENT
END:VCALENDAR