BEGIN:VCALENDAR
VERSION:2.0
PRODID:-//Kauffman Museum - ECPv6.15.17.1//NONSGML v1.0//EN
CALSCALE:GREGORIAN
METHOD:PUBLISH
X-ORIGINAL-URL:https://kauffmanmuseum.org
X-WR-CALDESC:Events for Kauffman Museum
REFRESH-INTERVAL;VALUE=DURATION:PT1H
X-Robots-Tag:noindex
X-PUBLISHED-TTL:PT1H
BEGIN:VTIMEZONE
TZID:America/Chicago
BEGIN:DAYLIGHT
TZOFFSETFROM:-0600
TZOFFSETTO:-0500
TZNAME:CDT
DTSTART:20210314T080000
END:DAYLIGHT
BEGIN:STANDARD
TZOFFSETFROM:-0500
TZOFFSETTO:-0600
TZNAME:CST
DTSTART:20211107T070000
END:STANDARD
BEGIN:DAYLIGHT
TZOFFSETFROM:-0600
TZOFFSETTO:-0500
TZNAME:CDT
DTSTART:20220313T080000
END:DAYLIGHT
BEGIN:STANDARD
TZOFFSETFROM:-0500
TZOFFSETTO:-0600
TZNAME:CST
DTSTART:20221106T070000
END:STANDARD
BEGIN:DAYLIGHT
TZOFFSETFROM:-0600
TZOFFSETTO:-0500
TZNAME:CDT
DTSTART:20230312T080000
END:DAYLIGHT
BEGIN:STANDARD
TZOFFSETFROM:-0500
TZOFFSETTO:-0600
TZNAME:CST
DTSTART:20231105T070000
END:STANDARD
END:VTIMEZONE
BEGIN:VEVENT
DTSTART;TZID=America/Chicago:20220627T090000
DTEND;TZID=America/Chicago:20220701T113000
DTSTAMP:20260419T175326
CREATED:20220408T010415Z
LAST-MODIFIED:20220408T010415Z
UID:9344-1656320400-1656675000@kauffmanmuseum.org
SUMMARY:Life on the Prairie | Uncle Carl's Camps
DESCRIPTION:There are more life on the prairie than you’d ever imagine!  It has been home to many plants\, animals and people for a very long time. We will investigate many different organisms that live on the prairie–big and small–and imagine how the prairie might be different (or the same?) if we had lived hundreds of years ago.  Come ready to spend lots of time outside going on nature walks\, doing experiments\, and imagining life on the prairie through the ages! \nJune 27-July 1\, 9:00-11:30 each day | Age 6 to 8 (completed grade k-2) \nApplication deadline: June 24 \n$70 per museum member / $85 per non-member \nInstructor:\nKendall Smith\nUSD 373\, Newton\, KS
URL:https://kauffmanmuseum.org/event/life-on-the-prairie-uncle-carls-camps/
LOCATION:Kauffman Museum\, 27th & Main St.\, North Newton\, KS\, 67117\, United States
CATEGORIES:Children's Event,Uncle Carl's Camp
ATTACH;FMTTYPE=image/jpeg:https://kauffmanmuseum.org/wp-content/uploads/2022/04/UCC-Thumbnail_Page_1.jpg
ORGANIZER;CN="Aaron Tschetter":MAILTO:kmcamps@bethelks.edu
END:VEVENT
BEGIN:VEVENT
DTSTART;TZID=America/Chicago:20220702T070000
DTEND;TZID=America/Chicago:20220702T080000
DTSTAMP:20260419T175326
CREATED:20220630T171832Z
LAST-MODIFIED:20220630T171832Z
UID:9402-1656745200-1656748800@kauffmanmuseum.org
SUMMARY:First Saturday Bird Walk—July 2\, 2022
DESCRIPTION:Our First Saturday Bird Walks depart from the kiosk in the museum parking lot for a mile-and-a-half hike through Chisholm Park and along Sand Creek Trail. Be prepared for some unpaved/steep terrain. Binoculars and a bird book are recommended but not required. Children accompanied by an adult are welcome but should be able to remain quiet so they don’t scare away the birds!\nFree and open to the public.\n\nDetails in light of the COVID-19 pandemic:\n–Masks required. Bring your own mask (BYOM).\n–Maintain social distancing at all times before\, during and after the bird walk.
URL:https://kauffmanmuseum.org/event/first-saturday-bird-walk-july-2-2022/
LOCATION:Kauffman Museum\, 27th & Main St.\, North Newton\, KS\, 67117\, United States
CATEGORIES:Bird Walk,Nature
ATTACH;FMTTYPE=image/jpeg:https://kauffmanmuseum.org/wp-content/uploads/2022/06/837.1-Yellow-Warbler-3-2.jpg
ORGANIZER;CN="Andi Schmidt Andres":MAILTO:asa@bethelks.edu
END:VEVENT
BEGIN:VEVENT
DTSTART;TZID=America/Chicago:20220718T090000
DTEND;TZID=America/Chicago:20220722T113000
DTSTAMP:20260419T175326
CREATED:20220408T010603Z
LAST-MODIFIED:20220408T010603Z
UID:9346-1658134800-1658489400@kauffmanmuseum.org
SUMMARY:Pedal Power | Uncle Carl's Camp
DESCRIPTION:If you like to bike\, this camp is for you! Campers will build endurance and learn bicycle safety\, history of biking through Kauffman Museum’s collection\, bicycle maintenance and repair and riding rules and etiquette. Campers must already know how to ride a bike and be ready to expand their skills and confidence. Each day campers will bike longer distances\, ending in a 10-mile ride. Each participant must bring a bike in good working order and a helmet. \nJuly 18-22\, 9:00-12:00 each day | Age 9 and over (completed grade 3 through adult) \nApplication deadline: July 15 \n$75 per museum member / $90 per non-member \nInstructors:\nKaren Kreider Yoder\nSF-USD\, San Francisco\, CA \nStephen Kreider Yoder\nWall Street Journal
URL:https://kauffmanmuseum.org/event/pedal-power-uncle-carls-camp/
LOCATION:Kauffman Museum\, 27th & Main St.\, North Newton\, KS\, 67117\, United States
CATEGORIES:Children's Event,Uncle Carl's Camp
ATTACH;FMTTYPE=image/jpeg:https://kauffmanmuseum.org/wp-content/uploads/2022/04/UCC-Thumbnail_Page_1.jpg
ORGANIZER;CN="Aaron Tschetter":MAILTO:kmcamps@bethelks.edu
END:VEVENT
END:VCALENDAR