BEGIN:VCALENDAR
VERSION:2.0
PRODID:-//Kauffman Museum - ECPv6.15.17.1//NONSGML v1.0//EN
CALSCALE:GREGORIAN
METHOD:PUBLISH
X-ORIGINAL-URL:https://kauffmanmuseum.org
X-WR-CALDESC:Events for Kauffman Museum
REFRESH-INTERVAL;VALUE=DURATION:PT1H
X-Robots-Tag:noindex
X-PUBLISHED-TTL:PT1H
BEGIN:VTIMEZONE
TZID:America/Chicago
BEGIN:DAYLIGHT
TZOFFSETFROM:-0600
TZOFFSETTO:-0500
TZNAME:CDT
DTSTART:20210314T080000
END:DAYLIGHT
BEGIN:STANDARD
TZOFFSETFROM:-0500
TZOFFSETTO:-0600
TZNAME:CST
DTSTART:20211107T070000
END:STANDARD
BEGIN:DAYLIGHT
TZOFFSETFROM:-0600
TZOFFSETTO:-0500
TZNAME:CDT
DTSTART:20220313T080000
END:DAYLIGHT
BEGIN:STANDARD
TZOFFSETFROM:-0500
TZOFFSETTO:-0600
TZNAME:CST
DTSTART:20221106T070000
END:STANDARD
BEGIN:DAYLIGHT
TZOFFSETFROM:-0600
TZOFFSETTO:-0500
TZNAME:CDT
DTSTART:20230312T080000
END:DAYLIGHT
BEGIN:STANDARD
TZOFFSETFROM:-0500
TZOFFSETTO:-0600
TZNAME:CST
DTSTART:20231105T070000
END:STANDARD
END:VTIMEZONE
BEGIN:VEVENT
DTSTART;TZID=America/Chicago:20220402T070000
DTEND;TZID=America/Chicago:20220402T080000
DTSTAMP:20260419T215814
CREATED:20220210T230056Z
LAST-MODIFIED:20220210T230131Z
UID:9196-1648882800-1648886400@kauffmanmuseum.org
SUMMARY:First Saturday Bird Walk – April 2022
DESCRIPTION:Our First Saturday Bird Walks depart from the kiosk in the museum parking lot for a mile-and-a-half hike through Chisholm Park and along Sand Creek Trail. Be prepared for some unpaved/steep terrain. Binoculars and a bird book are recommended but not required. Children accompanied by an adult are welcome but should be able to remain quiet so they don’t scare away the birds!\nFree and open to the public.\n\nDetails in light of the COVID-19 pandemic:\n–Masks required. Bring your own mask (BYOM).\n–Maintain social distancing at all times before\, during and after the bird walk.
URL:https://kauffmanmuseum.org/event/first-saturday-bird-walk-march-2022-2/
LOCATION:Kauffman Museum\, 27th & Main St.\, North Newton\, KS\, 67117\, United States
CATEGORIES:Bird Walk,Museum Event,Nature
ATTACH;FMTTYPE=image/jpeg:https://kauffmanmuseum.org/wp-content/uploads/2020/05/837.1-Yellow-Warbler-3.jpg
ORGANIZER;CN="Andi Schmidt Andres":MAILTO:asa@bethelks.edu
END:VEVENT
BEGIN:VEVENT
DTSTART;TZID=America/Chicago:20220403T150000
DTEND;TZID=America/Chicago:20220403T160000
DTSTAMP:20260419T215814
CREATED:20220127T152337Z
LAST-MODIFIED:20240220T023143Z
UID:9124-1648998000-1649001600@kauffmanmuseum.org
SUMMARY:Sunday-Afternoon-at-the-Museum with John M. Janzen
DESCRIPTION:Join us for “Drums or Organ: Contesting Musical Styles in African Christianity\,” a Sunday-Afternoon-at-the-Museum program with John M. Janzen.\n  \nThis event is presented as part of “The Magic of Things\,” a Kauffman Museum special exhibition celebrating the 125th anniversary of collecting at the oldest Mennonite museum in the Americas.\n\n\nView the event recording.
URL:https://kauffmanmuseum.org/event/sunday-afternoon-at-the-museum-with-john-m-janzen/
LOCATION:Kauffman Museum\, 27th & Main St.\, North Newton\, KS\, 67117\, United States
CATEGORIES:Kauffman Museum Association,Museum Event,Online,Special Exhibition,Sunday Afternoon at the Museum (SAM)
ATTACH;FMTTYPE=image/png:https://kauffmanmuseum.org/wp-content/uploads/2020/12/cropped-Site-Icon-KM.png
END:VEVENT
BEGIN:VEVENT
DTSTART;TZID=America/Chicago:20220423T103000
DTEND;TZID=America/Chicago:20220423T113000
DTSTAMP:20260419T215814
CREATED:20220413T190418Z
LAST-MODIFIED:20220413T190418Z
UID:9366-1650709800-1650713400@kauffmanmuseum.org
SUMMARY:Earth Day Falconer Program
DESCRIPTION:To celebrate Earth Day and the spring exhibit\, “The Magic of Things: 5 Continents\, 25 Centuries\, 125 Years of Collecting\,” Kauffman Museum will host falconer Nate Mathews at 10:30 a.m. on Saturday\, April 23 in the museum auditorium. To highlight the natural history area of “The Magic of Things\,” Mathews will bring a live Bald Eagle to show and explain how he uses his birds to hunt. The program will take place indoors. Mathews has been a falconer for 25 years. The April 23 program is free and open to the public and includes free entry to the museum. For more information on the exhibit\, public programs and current COVID protocols\, visit www.kauffmanmuseum.org or the Kauffman Museum Facebook page\, or contact the museum at kauffman@bethelks.edu or 316-283-1612.
URL:https://kauffmanmuseum.org/event/earth-day-falconer-program/
LOCATION:Kauffman Museum\, 27th & Main St.\, North Newton\, KS\, 67117\, United States
CATEGORIES:Nature
ATTACH;FMTTYPE=image/jpeg:https://kauffmanmuseum.org/wp-content/uploads/2022/04/EarthDay22.jpg
ORGANIZER;CN="Andi Schmidt Andres":MAILTO:asa@bethelks.edu
END:VEVENT
BEGIN:VEVENT
DTSTART;TZID=America/Chicago:20220428T183000
DTEND;TZID=America/Chicago:20220428T203000
DTSTAMP:20260419T215814
CREATED:20220419T173955Z
LAST-MODIFIED:20220419T173955Z
UID:9369-1651170600-1651177800@kauffmanmuseum.org
SUMMARY:Kauffman Museum Strategic Planning Community Focus Group
DESCRIPTION:This spring\, Kauffman Museum will develop an action plan that will move the museum boldly into the 21st century\, paving a way forward in our rapidly changing world. Your input as a community member is essential as we work through this process. You are invited to join us on Thursday\, April 28 from 6:30 to 8:30 in the Newton Recreation Center\, Sunflower Room\, in a one-time focus group conversation open to the public.\n\nIn recent years\, Kauffman Museum has aimed “to foster learning experiences rich in artifacts that promote aesthetic appreciation of critical thinking about and reflection on the people and the natural environment of the central prairies\, with emphasis on the story of the Mennonites” (Board Approved mission statement\, 2012). We hope to build on this legacy with a strategic plan that will shape the museum for the next 3-5 years. Any and all ideas are welcome and will be appreciated.\n\nPlease join us on April 28!
URL:https://kauffmanmuseum.org/event/kauffman-museum-strategic-planning-community-focus-group/
LOCATION:Newton Recreation Center\, 415 N Poplar St\, Newton\, KS\, 67114\, United States
CATEGORIES:Intergenerational,Museum Event,Strategic Planning
ATTACH;FMTTYPE=image/jpeg:https://kauffmanmuseum.org/wp-content/uploads/2021/08/KMWide_Reduced.jpg
ORGANIZER;CN="Andi Schmidt Andres":MAILTO:asa@bethelks.edu
END:VEVENT
END:VCALENDAR