BEGIN:VCALENDAR
VERSION:2.0
PRODID:-//Kauffman Museum - ECPv6.15.17.1//NONSGML v1.0//EN
CALSCALE:GREGORIAN
METHOD:PUBLISH
X-WR-CALNAME:Kauffman Museum
X-ORIGINAL-URL:https://kauffmanmuseum.org
X-WR-CALDESC:Events for Kauffman Museum
REFRESH-INTERVAL;VALUE=DURATION:PT1H
X-Robots-Tag:noindex
X-PUBLISHED-TTL:PT1H
BEGIN:VTIMEZONE
TZID:America/Chicago
BEGIN:DAYLIGHT
TZOFFSETFROM:-0600
TZOFFSETTO:-0500
TZNAME:CDT
DTSTART:20210314T080000
END:DAYLIGHT
BEGIN:STANDARD
TZOFFSETFROM:-0500
TZOFFSETTO:-0600
TZNAME:CST
DTSTART:20211107T070000
END:STANDARD
BEGIN:DAYLIGHT
TZOFFSETFROM:-0600
TZOFFSETTO:-0500
TZNAME:CDT
DTSTART:20220313T080000
END:DAYLIGHT
BEGIN:STANDARD
TZOFFSETFROM:-0500
TZOFFSETTO:-0600
TZNAME:CST
DTSTART:20221106T070000
END:STANDARD
BEGIN:DAYLIGHT
TZOFFSETFROM:-0600
TZOFFSETTO:-0500
TZNAME:CDT
DTSTART:20230312T080000
END:DAYLIGHT
BEGIN:STANDARD
TZOFFSETFROM:-0500
TZOFFSETTO:-0600
TZNAME:CST
DTSTART:20231105T070000
END:STANDARD
END:VTIMEZONE
BEGIN:VEVENT
DTSTART;TZID=America/Chicago:20220205T080000
DTEND;TZID=America/Chicago:20220205T090000
DTSTAMP:20260420T004356
CREATED:20211203T161153Z
LAST-MODIFIED:20211203T161153Z
UID:9016-1644048000-1644051600@kauffmanmuseum.org
SUMMARY:First Saturday Bird Walk – February 2022
DESCRIPTION:Our First Saturday Bird Walks depart from the kiosk in the museum parking lot for a mile-and-a-half hike through Chisholm Park and along Sand Creek Trail. Be prepared for some unpaved/steep terrain. Binoculars and a bird book are recommended but not required. Children accompanied by an adult are welcome but should be able to remain quiet so they don’t scare away the birds!\nFree and open to the public.\n\nDetails in light of the COVID-19 pandemic:\n–Masks required. Bring your own mask (BYOM).\n–Maintain social distancing at all times before\, during and after the bird walk.
URL:https://kauffmanmuseum.org/event/first-saturday-bird-walk-february-2022/
LOCATION:Kauffman Museum\, 27th & Main St.\, North Newton\, KS\, 67117\, United States
CATEGORIES:Bird Walk,Museum Event,Nature
ATTACH;FMTTYPE=image/jpeg:https://kauffmanmuseum.org/wp-content/uploads/2021/11/118882601_3477248672294615_171621888124202945_n-2.jpg
ORGANIZER;CN="Andi Schmidt Andres":MAILTO:asa@bethelks.edu
END:VEVENT
BEGIN:VEVENT
DTSTART;TZID=America/Chicago:20220219T143000
DTEND;TZID=America/Chicago:20220219T163000
DTSTAMP:20260420T004356
CREATED:20220127T151343Z
LAST-MODIFIED:20220215T182307Z
UID:9116-1645281000-1645288200@kauffmanmuseum.org
SUMMARY:Grand Opening: The Magic of Things
DESCRIPTION:Kauffman Museum began in 1896 as Bethel College’s teaching collection of “Natural History and American Relics\,” housed in its Administration Building. To celebrate the 125th anniversary of collecting at this oldest Mennonite museum in the Americas\, former and current staff have selected astonishing artifacts and specimens–most exhibited for the first time–that speak of “The Magic of Things.”\n  \nJoin us for the grand opening of “The Magic of Things: 5 Continents • 25 Centuries • 125 Years of Collecting” on Saturday\, February 19 from 2:30–4:30 pm. This come-and-go event will include remarks by lead curator Reinhild K. Janzen at 3:00 pm.\n  \nFor more information\, please visit the exhibit page.\n  \nThe Magic of Things will be on display at Kauffman Museum from February 19–May 22\, 2022
URL:https://kauffmanmuseum.org/event/grand-opening-the-magic-of-things/
LOCATION:Kauffman Museum\, 27th & Main St.\, North Newton\, KS\, 67117\, United States
CATEGORIES:Bethel College,Kauffman Museum Association,Museum Event,Special Exhibition
ATTACH;FMTTYPE=image/jpeg:https://kauffmanmuseum.org/wp-content/uploads/2022/01/TMoT_DigitalPromo_KMEventHeader.jpg
END:VEVENT
END:VCALENDAR