BEGIN:VCALENDAR
VERSION:2.0
PRODID:-//Kauffman Museum - ECPv6.15.17.1//NONSGML v1.0//EN
CALSCALE:GREGORIAN
METHOD:PUBLISH
X-ORIGINAL-URL:https://kauffmanmuseum.org
X-WR-CALDESC:Events for Kauffman Museum
REFRESH-INTERVAL;VALUE=DURATION:PT1H
X-Robots-Tag:noindex
X-PUBLISHED-TTL:PT1H
BEGIN:VTIMEZONE
TZID:America/Chicago
BEGIN:DAYLIGHT
TZOFFSETFROM:-0600
TZOFFSETTO:-0500
TZNAME:CDT
DTSTART:20210314T080000
END:DAYLIGHT
BEGIN:STANDARD
TZOFFSETFROM:-0500
TZOFFSETTO:-0600
TZNAME:CST
DTSTART:20211107T070000
END:STANDARD
BEGIN:DAYLIGHT
TZOFFSETFROM:-0600
TZOFFSETTO:-0500
TZNAME:CDT
DTSTART:20220313T080000
END:DAYLIGHT
BEGIN:STANDARD
TZOFFSETFROM:-0500
TZOFFSETTO:-0600
TZNAME:CST
DTSTART:20221106T070000
END:STANDARD
BEGIN:DAYLIGHT
TZOFFSETFROM:-0600
TZOFFSETTO:-0500
TZNAME:CDT
DTSTART:20230312T080000
END:DAYLIGHT
BEGIN:STANDARD
TZOFFSETFROM:-0500
TZOFFSETTO:-0600
TZNAME:CST
DTSTART:20231105T070000
END:STANDARD
END:VTIMEZONE
BEGIN:VEVENT
DTSTART;TZID=America/Chicago:20220101T080000
DTEND;TZID=America/Chicago:20220101T090000
DTSTAMP:20260420T020943
CREATED:20211203T160920Z
LAST-MODIFIED:20211231T181724Z
UID:9013-1641024000-1641027600@kauffmanmuseum.org
SUMMARY:CANCELED: First Saturday Bird Walk – January 2022
DESCRIPTION:Due to weather and COVID-19 concerns\, our January 1\, 2022 First Saturday Bird Walk has been canceled.\n\nPlease check back later for updates regarding our February bird walk.
URL:https://kauffmanmuseum.org/event/first-saturday-bird-walk-january-2022/
LOCATION:Kauffman Museum\, 27th & Main St.\, North Newton\, KS\, 67117\, United States
CATEGORIES:Bird Walk,Museum Event,Nature
ATTACH;FMTTYPE=image/jpeg:https://kauffmanmuseum.org/wp-content/uploads/2021/11/118882601_3477248672294615_171621888124202945_n-2.jpg
ORGANIZER;CN="Andi Schmidt Andres":MAILTO:asa@bethelks.edu
END:VEVENT
BEGIN:VEVENT
DTSTART;TZID=America/Chicago:20220109T150000
DTEND;TZID=America/Chicago:20220109T160000
DTSTAMP:20260420T020943
CREATED:20211122T051905Z
LAST-MODIFIED:20240220T023402Z
UID:8938-1641740400-1641744000@kauffmanmuseum.org
SUMMARY:Sunday-Afternoon-at-the-Museum: STAND Student Panel
DESCRIPTION:STAND students from all over the region have seen the effects of the vaping epidemic. Join us for a conversation about the rise of e-cigarettes and vaping\, its effects on young people\, and the positive things that STAND leaders are doing to encourage peers to make healthy decisions. Student panelists will be responding to questions about the past\, present\, and future of vaping\, as well as speaking about the impacts of vaping on their generation. \nThrough STAND\, youth are given opportunities and skills to reduce substance use\, promote positive mental health\, and take leadership to create significant change in their school and community.  Student leaders involved with STAND know that they are valuable contributors to social change and are empowered to lean into their strengths to impact the world around them. There are currently over 130 STAND students in 6 different communities that are working on creating a healthier\, more positive future for their peers. \nView the event recording.
URL:https://kauffmanmuseum.org/event/sunday-afternoon-at-the-museum/
LOCATION:Kauffman Museum\, 27th & Main St.\, North Newton\, KS\, 67117\, United States
CATEGORIES:Museum Event,Special Exhibition,Sunday Afternoon at the Museum (SAM),Vapes: Marketing an Addiction
ATTACH;FMTTYPE=image/jpeg:https://kauffmanmuseum.org/wp-content/uploads/2021/11/Vaping_SMALL-1.jpg
ORGANIZER;CN="Andi Schmidt Andres":MAILTO:asa@bethelks.edu
END:VEVENT
BEGIN:VEVENT
DTSTART;TZID=America/Chicago:20220129T120000
DTEND;TZID=America/Chicago:20220129T160000
DTSTAMP:20260420T020943
CREATED:20211105T000056Z
LAST-MODIFIED:20240220T024234Z
UID:8856-1643457600-1643472000@kauffmanmuseum.org
SUMMARY:Celebrate Kansas Day!
DESCRIPTION:Celebrate Kansas Day! at Kauffman Museum. Mark your calendars for this free Kansas Day event at Kauffman Museum\, happening on Saturday\, January 29\, 2022 from 12:00–4:00pm. \nView the Celebrate Kansas Day! flier. \n\nFood in the Museum Parking Lot\, 11:30-4:30\nLeJ’s BBQ • Hot chocolate\, coffee and cinnamon rolls • Tacos Ana’s • Ken N Barbie’z Rollin Diner \nActivities in and around Kauffman Museum\nIn the Museum auditorium \n\n1:00 Gordon Parks: Renaissance Man\, Kirk Sharp\, Director\, Gordon Parks Museum | View the recording\n2:00 Meet Blackbear Bosin: The Man Behind the Keeper\, Erin Raux\, Director\,\nMid-American All-Indian Center | View the recording\n3:00 William Allen White: A Kansas Wonder\, Bev Buller\, Author and Librarian\,\nretired USD 373 | View the recording\n\nZoom link for all presentations: https://us02web.zoom.us/j/83480322323?pwd=dE1TM0lIazZYZjBrY2FybnR0d0FPQT09 \nPresentations will also be live streamed to Kauffman Museum’s Facebook page and later archived to the museum YouTube channel. \n\nIndoor Activities and Crafts\nCraft a Car like Chrysler • Takeoff with Amelia • Laura’s Rag Doll • Famous\nKansans Cozy Book Corner • Parks Fashion Photos • Find the Famous Kansans \nBook Signing \n\nRoxie Yonkey\, 100 Things To Do in Kansas Before You Die\nBev Buller\, From Emporia: William Allen White\nGretchen Eick\, They Met at Wounded Knee\, Finding Duncan\, Dissent in Wichita\nChuck Regier\, No Recipe\, No Problem\nWarren Ashworth and Susan Kand\, We\, the House\nBlack Bear Bosin book (signed copies)\n\n\nOutdoor Activities\, Crafts and Demonstrations\n Buffalo Chip Tic Tac Toe • Prairie Dog Corn Hole • Native American Teepee • Blacksmith Bill Moffet • Rope Making • Corn Grinding • Popcorn Popping • Vintage Washing Machines • Hay Rack Rides • Old-fashioned Schoolyard Games • Nothing but Naismith • Farmhouse open and heated • George’s Peanut Butter Bird Feeders \n\nBake Sale \nfeaturing homemade baked goods \n\nRaffle \nfor 12 pints of Salted Creamery Artisan Ice Cream
URL:https://kauffmanmuseum.org/event/celebrate-kansas-day-2/
LOCATION:Kauffman Museum\, 27th & Main St.\, North Newton\, KS\, 67117\, United States
CATEGORIES:Children's Event,Intergenerational,Kansas Day!,Museum Event
ATTACH;FMTTYPE=image/jpeg:https://kauffmanmuseum.org/wp-content/uploads/2020/12/kansasday-eventweb-03.jpg
ORGANIZER;CN="Andi Schmidt Andres":MAILTO:asa@bethelks.edu
END:VEVENT
END:VCALENDAR