BEGIN:VCALENDAR
VERSION:2.0
PRODID:-//Kauffman Museum - ECPv6.15.17.1//NONSGML v1.0//EN
CALSCALE:GREGORIAN
METHOD:PUBLISH
X-WR-CALNAME:Kauffman Museum
X-ORIGINAL-URL:https://kauffmanmuseum.org
X-WR-CALDESC:Events for Kauffman Museum
REFRESH-INTERVAL;VALUE=DURATION:PT1H
X-Robots-Tag:noindex
X-PUBLISHED-TTL:PT1H
BEGIN:VTIMEZONE
TZID:America/Chicago
BEGIN:DAYLIGHT
TZOFFSETFROM:-0600
TZOFFSETTO:-0500
TZNAME:CDT
DTSTART:20200308T080000
END:DAYLIGHT
BEGIN:STANDARD
TZOFFSETFROM:-0500
TZOFFSETTO:-0600
TZNAME:CST
DTSTART:20201101T070000
END:STANDARD
BEGIN:DAYLIGHT
TZOFFSETFROM:-0600
TZOFFSETTO:-0500
TZNAME:CDT
DTSTART:20210314T080000
END:DAYLIGHT
BEGIN:STANDARD
TZOFFSETFROM:-0500
TZOFFSETTO:-0600
TZNAME:CST
DTSTART:20211107T070000
END:STANDARD
BEGIN:DAYLIGHT
TZOFFSETFROM:-0600
TZOFFSETTO:-0500
TZNAME:CDT
DTSTART:20220313T080000
END:DAYLIGHT
BEGIN:STANDARD
TZOFFSETFROM:-0500
TZOFFSETTO:-0600
TZNAME:CST
DTSTART:20221106T070000
END:STANDARD
END:VTIMEZONE
BEGIN:VEVENT
DTSTART;VALUE=DATE:20210930
DTEND;VALUE=DATE:20211005
DTSTAMP:20260420T062913
CREATED:20210920T154723Z
LAST-MODIFIED:20210920T160311Z
UID:8653-1632960000-1633391999@kauffmanmuseum.org
SUMMARY:Bethel College Fall Festival
DESCRIPTION:For 50 years\, Bethel College has celebrated education\, diverse cultural traditions\, special foods\, fine arts\, crafts and friendship at its annual Fall Festival\, held each year on an extended weekend in late September or early October. More than 5\,000 people come to Newton and the Bethel campus to enjoy an array of activities. \nAll events are in facilities on the Bethel College campus\, unless otherwise noted.
URL:https://kauffmanmuseum.org/event/bethel-college-fall-fest-2021/
LOCATION:Bethel College\, 300 E 27th\, North Newton\, KS\, 67114\, United States
CATEGORIES:Bethel College,Fall Festival
ATTACH;FMTTYPE=image/png:https://kauffmanmuseum.org/wp-content/uploads/2021/09/BC-Fall-Fest-Logo-e1601066057862.png
END:VEVENT
BEGIN:VEVENT
DTSTART;TZID=America/Chicago:20211002T133000
DTEND;TZID=America/Chicago:20211002T143000
DTSTAMP:20260420T062913
CREATED:20210920T160137Z
LAST-MODIFIED:20240220T023541Z
UID:8658-1633181400-1633185000@kauffmanmuseum.org
SUMMARY:“The Dutch Golden Age: Mennonite to the Core” by Lauren Friesen
DESCRIPTION:“The Dutch Golden Age: Mennonite to the Core\,” an illustrated program by Lauren Friesen ’67\, Ph.D. \nThe Dutch Golden Age was an era when the visual arts\, medicine\, business\, education\, theater\, poetry\, theology and publication flourished\, with Mennonites deeply engaged in all disciplines. Friesen will cover Mennonite connections and involvement\, including Rembrandt (painting)\, Nicolas Bidloo (medicine)\, Joost von den Vondel (drama)\, and the founder of the Golden Age\, Carel van Mander. Limited in-person attendance with reservations; live streaming and recorded formats available. \nView the event recording.
URL:https://kauffmanmuseum.org/event/the-dutch-golden-age-mennonite-to-the-core-by-lauren-friesen/
LOCATION:Kauffman Museum\, 27th & Main St.\, North Newton\, KS\, 67117\, United States
CATEGORIES:Bethel College,Fall Festival
ATTACH;FMTTYPE=image/jpeg:https://kauffmanmuseum.org/wp-content/uploads/2021/09/IMG_6335.jpg
ORGANIZER;CN="Andi Schmidt Andres":MAILTO:asa@bethelks.edu
END:VEVENT
BEGIN:VEVENT
DTSTART;VALUE=DATE:20211023
DTEND;VALUE=DATE:20211024
DTSTAMP:20260420T062913
CREATED:20210920T153654Z
LAST-MODIFIED:20211007T213436Z
UID:8651-1634947200-1635033599@kauffmanmuseum.org
SUMMARY:Living Endowment Dinner
DESCRIPTION:You are cordially invited to support Kauffman Museum’s 35th annual Living Endowment Dinner \nIn anticipation of the spring museum exhibit celebrating 125 years of a museum on the Bethel College campus\, the dinner will reflect menus of 1896 when the museum first opened.  \nOur caterer\, Elderslie Farm near Kechi\, specializes in fine dining using local\, often organic products.  \nDue to continued health concerns associated with the Delta variant of the COVID-19 virus\, the Living Endowment Dinner will again be available for delivery or pick up only\, with no dining at the museum. \n\nClick here to order your meal. \nMeals are available for pickup at Kauffman Museum or delivery to your home between 4:30 and 6:00pm. Please indicate dietary restrictions and delivery instructions in the order notes field at checkout if needed. For delivery farther than 15 miles from North Newton\, please contact Andi Andres (asa@bethelks.edu) to set up a rendezvous location.
URL:https://kauffmanmuseum.org/event/living-endowment-dinner/
LOCATION:At Home
CATEGORIES:Living Endowment
ATTACH;FMTTYPE=image/png:https://kauffmanmuseum.org/wp-content/uploads/2021/09/LED21_ProductPic.png
ORGANIZER;CN="Andi Schmidt Andres":MAILTO:asa@bethelks.edu
END:VEVENT
END:VCALENDAR