BEGIN:VCALENDAR
VERSION:2.0
PRODID:-//Kauffman Museum - ECPv6.15.17.1//NONSGML v1.0//EN
CALSCALE:GREGORIAN
METHOD:PUBLISH
X-ORIGINAL-URL:https://kauffmanmuseum.org
X-WR-CALDESC:Events for Kauffman Museum
REFRESH-INTERVAL;VALUE=DURATION:PT1H
X-Robots-Tag:noindex
X-PUBLISHED-TTL:PT1H
BEGIN:VTIMEZONE
TZID:America/Chicago
BEGIN:DAYLIGHT
TZOFFSETFROM:-0600
TZOFFSETTO:-0500
TZNAME:CDT
DTSTART:20200308T080000
END:DAYLIGHT
BEGIN:STANDARD
TZOFFSETFROM:-0500
TZOFFSETTO:-0600
TZNAME:CST
DTSTART:20201101T070000
END:STANDARD
BEGIN:DAYLIGHT
TZOFFSETFROM:-0600
TZOFFSETTO:-0500
TZNAME:CDT
DTSTART:20210314T080000
END:DAYLIGHT
BEGIN:STANDARD
TZOFFSETFROM:-0500
TZOFFSETTO:-0600
TZNAME:CST
DTSTART:20211107T070000
END:STANDARD
BEGIN:DAYLIGHT
TZOFFSETFROM:-0600
TZOFFSETTO:-0500
TZNAME:CDT
DTSTART:20220313T080000
END:DAYLIGHT
BEGIN:STANDARD
TZOFFSETFROM:-0500
TZOFFSETTO:-0600
TZNAME:CST
DTSTART:20221106T070000
END:STANDARD
END:VTIMEZONE
BEGIN:VEVENT
DTSTART;VALUE=DATE:20210601
DTEND;VALUE=DATE:20210717
DTSTAMP:20260420T115300
CREATED:20210429T222944Z
LAST-MODIFIED:20210429T222944Z
UID:8387-1622505600-1626479999@kauffmanmuseum.org
SUMMARY:Uncle Carl's Camp
DESCRIPTION:Uncle Carl’s Camp is designed for discovery\, exploration & creativity. Come explore new and old worlds with us! \nTrash and Treasure | June 1-4\, 9:00-12:00  | Age 9 to 12 (or completed grade 3-6) \nWatercolor My World 1 | June 7-9\, 9:00-11:00  |  Age 6 to 8 (or completed grade K-2) \nWatercolor My World 2 | June 21-25\, 9:00-11:30 | Age 9 to 12 (or completed grade 3-6) \nThe Prairie is ALIVE! | June 28-July 2\, 9:00-11:30 | Age 6 to 8 (or completed grade K-2) \nLittle Houses on the Prairie | July 6-8\, 9:00-9:30 Zoom sessions  |  July 9\, 10:00 at the museum\, self guided Prairie Celebration and meet the teacher  | Age 4 and 5 (not yet in kindergarten) \nPedal Power | July 12-16\, 9:00-12:00  | Age 9 (or completed grade 3) through adult
URL:https://kauffmanmuseum.org/event/ucc21/
LOCATION:Kauffman Museum\, 27th & Main St.\, North Newton\, KS\, 67117\, United States
ATTACH;FMTTYPE=image/jpeg:https://kauffmanmuseum.org/wp-content/uploads/2020/07/Little_Houses_Group_2-scaled.jpg
END:VEVENT
END:VCALENDAR