BEGIN:VCALENDAR
VERSION:2.0
PRODID:-//Kauffman Museum - ECPv6.15.17.1//NONSGML v1.0//EN
CALSCALE:GREGORIAN
METHOD:PUBLISH
X-ORIGINAL-URL:https://kauffmanmuseum.org
X-WR-CALDESC:Events for Kauffman Museum
REFRESH-INTERVAL;VALUE=DURATION:PT1H
X-Robots-Tag:noindex
X-PUBLISHED-TTL:PT1H
BEGIN:VTIMEZONE
TZID:America/Chicago
BEGIN:DAYLIGHT
TZOFFSETFROM:-0600
TZOFFSETTO:-0500
TZNAME:CDT
DTSTART:20200308T080000
END:DAYLIGHT
BEGIN:STANDARD
TZOFFSETFROM:-0500
TZOFFSETTO:-0600
TZNAME:CST
DTSTART:20201101T070000
END:STANDARD
BEGIN:DAYLIGHT
TZOFFSETFROM:-0600
TZOFFSETTO:-0500
TZNAME:CDT
DTSTART:20210314T080000
END:DAYLIGHT
BEGIN:STANDARD
TZOFFSETFROM:-0500
TZOFFSETTO:-0600
TZNAME:CST
DTSTART:20211107T070000
END:STANDARD
BEGIN:DAYLIGHT
TZOFFSETFROM:-0600
TZOFFSETTO:-0500
TZNAME:CDT
DTSTART:20220313T080000
END:DAYLIGHT
BEGIN:STANDARD
TZOFFSETFROM:-0500
TZOFFSETTO:-0600
TZNAME:CST
DTSTART:20221106T070000
END:STANDARD
END:VTIMEZONE
BEGIN:VEVENT
DTSTART;TZID=America/Chicago:20210424T133000
DTEND;TZID=America/Chicago:20210424T163000
DTSTAMP:20260420T141946
CREATED:20210422T132609Z
LAST-MODIFIED:20210422T133106Z
UID:8376-1619271000-1619281800@kauffmanmuseum.org
SUMMARY:Earth Day Trail Walk
DESCRIPTION:Community participants will walk (or bike) to seven of the eight stations along the concrete North Newton trail from Kansas Avenue to Chisholm Trail park (north of Kauffman Museum). At each station they can stop to learn about local history and get a card stamped. Participants that walk the whole trail and get seven stamps may stop at the museum to pick up a packet of trail mix. Walkers and bikers may start at the Newton Dog Park or at Kauffman Museum where activity and maps cards will be available. The trail is 1.5 miles one way or 3 roundtrip.\n\nHappy Earth Day!
URL:https://kauffmanmuseum.org/event/earth-day-trail-walk/
LOCATION:Kauffman Museum\, 27th & Main St.\, North Newton\, KS\, 67117\, United States
CATEGORIES:Intergenerational,Museum Event,Nature
ATTACH;FMTTYPE=image/jpeg:https://kauffmanmuseum.org/wp-content/uploads/2020/05/DSCF1746.jpg
ORGANIZER;CN="Andi Schmidt Andres":MAILTO:asa@bethelks.edu
END:VEVENT
END:VCALENDAR