BEGIN:VCALENDAR
VERSION:2.0
PRODID:-//Kauffman Museum - ECPv6.15.17.1//NONSGML v1.0//EN
CALSCALE:GREGORIAN
METHOD:PUBLISH
X-WR-CALNAME:Kauffman Museum
X-ORIGINAL-URL:https://kauffmanmuseum.org
X-WR-CALDESC:Events for Kauffman Museum
REFRESH-INTERVAL;VALUE=DURATION:PT1H
X-Robots-Tag:noindex
X-PUBLISHED-TTL:PT1H
BEGIN:VTIMEZONE
TZID:America/Chicago
BEGIN:DAYLIGHT
TZOFFSETFROM:-0600
TZOFFSETTO:-0500
TZNAME:CDT
DTSTART:20190310T080000
END:DAYLIGHT
BEGIN:STANDARD
TZOFFSETFROM:-0500
TZOFFSETTO:-0600
TZNAME:CST
DTSTART:20191103T070000
END:STANDARD
BEGIN:DAYLIGHT
TZOFFSETFROM:-0600
TZOFFSETTO:-0500
TZNAME:CDT
DTSTART:20200308T080000
END:DAYLIGHT
BEGIN:STANDARD
TZOFFSETFROM:-0500
TZOFFSETTO:-0600
TZNAME:CST
DTSTART:20201101T070000
END:STANDARD
BEGIN:DAYLIGHT
TZOFFSETFROM:-0600
TZOFFSETTO:-0500
TZNAME:CDT
DTSTART:20210314T080000
END:DAYLIGHT
BEGIN:STANDARD
TZOFFSETFROM:-0500
TZOFFSETTO:-0600
TZNAME:CST
DTSTART:20211107T070000
END:STANDARD
BEGIN:DAYLIGHT
TZOFFSETFROM:-0600
TZOFFSETTO:-0500
TZNAME:CDT
DTSTART:20220313T080000
END:DAYLIGHT
BEGIN:STANDARD
TZOFFSETFROM:-0500
TZOFFSETTO:-0600
TZNAME:CST
DTSTART:20221106T070000
END:STANDARD
END:VTIMEZONE
BEGIN:VEVENT
DTSTART;VALUE=DATE:20201205
DTEND;VALUE=DATE:20210118
DTSTAMP:20260420T183547
CREATED:20201125T155523Z
LAST-MODIFIED:20201201T160721Z
UID:7533-1607126400-1610927999@kauffmanmuseum.org
SUMMARY:Crossroads: Change in Rural America
DESCRIPTION:We are the third stop in Kansas for the Smithsonian exhibit\, Crossroads: Change in Rural America. The Crossroads Kansas tour is sponsored by Humanities Kansas in partnership with the Smithsonian Institution’s Museum on Main Street program. The Smithsonian’s traveling exhibit will be shown in the Kauffman Museum special exhibit gallery. Admission to the exhibit is free on Saturdays. \nCrossroads: Change in Rural America\, offers small towns a chance to look at their own paths to highlight the changes that affected their fortunes over the past century. The exhibition will prompt discussions about what happened when America’s rural population became a minority of the country’s population and the ripple effects that occurred. The exhibit covers themes such as: Identity\, Land\, Community\, Persistence and Managing Change with photographs\, hands-on activities\, and audio and video clips provided by the Smithsonian in the Crossroads exhibition to tell the history and culture of local rural life in Kansas and spark conversations about our state’s future. \nCrossroads: Change in Rural America is accompanied by a local companion exhibit\, Of Land and People: Our Community at the Crossroads of Change celebrates the land on which our museum and community is placed\, honors the people who have lived and worked on it\, and invites visitors to reflect on the profound changes that have occurred here. \nCrossroads: Change in Rural America is part of Museum on Main Street\, a collaboration between the Smithsonian Institution and Humanities Kansas.
URL:https://kauffmanmuseum.org/event/crossroads-change-in-rural-america/
LOCATION:Kauffman Museum\, 27th & Main St.\, North Newton\, KS\, 67117\, United States
CATEGORIES:Special Exhibition
ATTACH;FMTTYPE=image/jpeg:https://kauffmanmuseum.org/wp-content/uploads/2020/11/Crossroads-logo-Black-small-300.jpeg
ORGANIZER;CN="Andi Schmidt Andres":MAILTO:asa@bethelks.edu
END:VEVENT
BEGIN:VEVENT
DTSTART;TZID=America/Chicago:20201207T080000
DTEND;TZID=America/Chicago:20210207T170000
DTSTAMP:20260420T183547
CREATED:20201212T183220Z
LAST-MODIFIED:20201229T184614Z
UID:7934-1607328000-1612717200@kauffmanmuseum.org
SUMMARY:Of Land and People: Our Community at the Crossroads of Change
DESCRIPTION:North Newton is strategically located at a historic crossroads in south-central Kansas. Of Land and People: Our Community at the Crossroads of Change celebrates the land on which our museum and community is placed\, honors the people who have lived and worked on it\, and invites visitors to reflect on the profound changes that have occurred here. \nOf Land and People will introduce the story of First Kansans who hunted and traveled along Sand Creek; ponder the changes to the prairie and the enrichment to our community brought by immigrants; and explore the rich legacy of trails past and present in our town. \nThis exhibition is a local companion exhibit to the current special Smithsonian exhibit\, “Crossroads: Change in Rural America” that is showing at Kauffman Museum through Jan. 17.  This exhibit is FREE to view on Saturdays.
URL:https://kauffmanmuseum.org/event/of-land-and-people-exhibit/
LOCATION:Kauffman Museum\, 27th & Main St.\, North Newton\, KS\, 67117\, United States
CATEGORIES:Bethel College,City of Newton,Special Exhibition
ATTACH;FMTTYPE=image/jpeg:https://kauffmanmuseum.org/wp-content/uploads/2020/12/Olais-1920-1.jpeg
ORGANIZER;CN="Andi Schmidt Andres":MAILTO:asa@bethelks.edu
END:VEVENT
BEGIN:VEVENT
DTSTART;VALUE=DATE:20201231
DTEND;VALUE=DATE:20210102
DTSTAMP:20260420T183547
CREATED:20201215T152853Z
LAST-MODIFIED:20201229T185321Z
UID:7927-1609372800-1609545599@kauffmanmuseum.org
SUMMARY:Holiday Hours
DESCRIPTION:Kauffman Museum will be open with shorter hours on New Year’s Eve and the museum will be closed on New Year’s Day. \nThursday\, Dec. 31: 9:30 am-1:00 pm\nFriday\, Jan. 1: Closed \nRegular museum hours will resume Saturday\, Jan. 2:\nTue-Fri  9:30am-4:30pm\nSat-Sun 1:30pm-4:30pm
URL:https://kauffmanmuseum.org/event/museum-closed-4/
LOCATION:Kauffman Museum\, 27th & Main St.\, North Newton\, KS\, 67117\, United States
ATTACH;FMTTYPE=image/png:https://kauffmanmuseum.org/wp-content/uploads/2020/12/KM-holiday-graphic.png
ORGANIZER;CN="Andi Schmidt Andres":MAILTO:asa@bethelks.edu
END:VEVENT
BEGIN:VEVENT
DTSTART;TZID=America/Chicago:20210110T150000
DTEND;TZID=America/Chicago:20210110T163000
DTSTAMP:20260420T183547
CREATED:20201130T165906Z
LAST-MODIFIED:20240220T023929Z
UID:7589-1610290800-1610296200@kauffmanmuseum.org
SUMMARY:Sunday-Afternoon-at-the-Museum with Florence Schloneger and Pauline Sharp
DESCRIPTION:Kauffman Museum in North Newton will host a Sunday-Afternoon-at-the-Museum presentation and discussion by Florence Schloneger and Pauline Sharp on Sunday\, Jan. 10 at 3:00 p.m.\, online via Zoom. Members of the community are invited to attend the free program. The program is made possible by Humanities Kansas. Sign up to attend on Zoom. The conversation will also be broadcasted live on the Kauffman Museum Facebook page. \nFlorence Schloneger and Pauline Sharp will share their family stories related to land ownership\, economics\, education and identity. Schloneger’s ancestors immigrated to Kansas in the 1800s while Sharp’s relatives\, as members of the Kanza tribe\, lived in central Kansas for centuries prior to the arrival of Europeans. Schloneger is a retired Mennonite minister. Sharp is a Kaw tribal member and board member of the Kanza Heritage Society. \nThis event is a public program to accompany the current special exhibition\, Crossroads: Change in Rural America\, a Smithsonian Institution traveling exhibition drawing on the history and culture of rural America to provoke fresh thinking and spark conversations about the future and sustainability of rural communities. As a host site\, Kauffman Museum will display a complementary exhibition\, Of Land & People: Our Community at the Crossroads of Change\, and host public programs that spark conversations about life in rural Kansas. \nCrossroads: Change in Rural America is part of Museum on Main Street\, a collaboration between the Smithsonian Institution and Humanities Kansas. \n  \nView the event recording.
URL:https://kauffmanmuseum.org/event/sunday-afternoon-at-the-museum-with-florence-schloneger-and-pauline-sharp/
CATEGORIES:Online,Sunday Afternoon at the Museum (SAM)
ATTACH;FMTTYPE=image/jpeg:https://kauffmanmuseum.org/wp-content/uploads/2020/11/florence-schloneger-pauline-sharp.jpeg
ORGANIZER;CN="Andi Schmidt Andres":MAILTO:asa@bethelks.edu
END:VEVENT
BEGIN:VEVENT
DTSTART;TZID=America/Chicago:20210130T110000
DTEND;TZID=America/Chicago:20210130T120000
DTSTAMP:20260420T183547
CREATED:20210120T233710Z
LAST-MODIFIED:20240220T023745Z
UID:8159-1612004400-1612008000@kauffmanmuseum.org
SUMMARY:"Mennonite - Food - Traditions" by Glen Ediger
DESCRIPTION:Celebrate Kansas Day! Virtual Event:\n\nJoin us online for “Mennonite – Food – Traditions” a virtual Zoom presentation by Glen Ediger.\nEdiger will give a brief history of Mennonites who immigrated to Kansas and how foods enjoyed in Kansas today are influenced by that history. He will speak about the traditional foods of the Low-German Mennonites and discuss his 30 favorite foods. Sign up to attend on Zoom. \n\nEdiger publishes a Mennonite Farmer blog on Facebook offering weekly posts about the history of Mennonite Farmers around the world\, with over 5\,000 followers in 45 countries. He was born on a wheat farm in western Harvey County\, lived in Harvey County his whole life.\n\nView the event recording.
URL:https://kauffmanmuseum.org/event/mennonite-food-traditions/
CATEGORIES:Bethel College,Intergenerational,Kansas Day!,Kauffman Museum Association,Online
ATTACH;FMTTYPE=image/jpeg:https://kauffmanmuseum.org/wp-content/uploads/2021/01/zwiebach-pile.jpg
ORGANIZER;CN="Andi Schmidt Andres":MAILTO:asa@bethelks.edu
END:VEVENT
BEGIN:VEVENT
DTSTART;TZID=America/Chicago:20210130T110000
DTEND;TZID=America/Chicago:20210130T160000
DTSTAMP:20260420T183547
CREATED:20201208T210442Z
LAST-MODIFIED:20210130T144128Z
UID:7920-1612004400-1612022400@kauffmanmuseum.org
SUMMARY:Celebrate Kansas Day! “Cultural Crossroads: Our Stories\, Our Foods”
DESCRIPTION:Celebrate Kansas Day! at Kauffman Museum. Celebrate our state’s birthday with this free Kansas Day event at Kauffman Museum! This year’s theme is\, “Cultural Crossroads: Our Stories\, Our Foods” to celebrate our vibrant community of makers! Kansas Day activities will be in-person AND online this year.\n\nKansas Day Schedule Update:\n\nOutdoor stations canceled!\nFood trucks not available.\n\nIndoor museum exhibits available.\nLimited entry due to COVID-19.\nKansas Day in a Box pick-up\, cookie sales\, take-home craft pick-up available inside the museum front entry.\nMasks and social distancing required!\n\nFor the adventurous! Hike the trails in the rain! Maps available at the museum.\n\n\nOnline:\n• A virtual presentation by Glen Ediger\, on Mennonite ethnic foods\, time TBA.\n• A virtual presentation by Jenny Masias\, “The Immigrants Who Built Newton: One Spike at a Time\,” time TBA.\nThe museum will be open in a limited capacity showing the traveling Smithsonian exhibit\, “Crossroads: Change in Rural America” and the local companion exhibit\, “Of Land & People: Our Community at a Crossroads of Change.”\n\nThe exhibition will encourage you to:\n• Take Another Look! at Kauffman Museum permanent exhibits with related themes.\n• Take a Walk! outdoors to discover additional content along North Newton trails.\n• Add your hopes\, dreams and critiques to the Community Response wall.
URL:https://kauffmanmuseum.org/event/celebrate-kansas-day-cultural-crossroads-our-stories-our-foods/
LOCATION:Kauffman Museum\, 27th & Main St.\, North Newton\, KS\, 67117\, United States
CATEGORIES:Children's Event,City of Newton,Intergenerational
ATTACH;FMTTYPE=image/jpeg:https://kauffmanmuseum.org/wp-content/uploads/2020/12/kansasday-eventweb-03.jpeg
END:VEVENT
BEGIN:VEVENT
DTSTART;TZID=America/Chicago:20210130T140000
DTEND;TZID=America/Chicago:20210130T150000
DTSTAMP:20260420T183547
CREATED:20210121T001638Z
LAST-MODIFIED:20240220T023842Z
UID:8168-1612015200-1612018800@kauffmanmuseum.org
SUMMARY:"The Immigrants Who Built Newton: One Spike at a Time" by Jenny Masais
DESCRIPTION:A Celebrate Kansas Day! Event:\nJoin us online for the free virtual presentation\, “The Immigrants Who Built Newton: One Spike at a Time” by Jenny Masias. Masias will elaborate on the history\, important contributions\, and crucial economic role that Mexican immigrants have made to Newton\, Kansas\, and beyond. Sign up to attend on Zoom. \n\nView the event recording.\n\n \nPresentation Abstract:\n\nThe prevalent link in the position of Latino neighborhoods in cities throughout Kansas is the railroad. Whether it is Newton\, Wichita\, Topeka\, Emporia or even larger cities like Los Angeles and Chicago\, the proximity of Latino neighborhoods to the train tracks is no coincidence. Newton\, Kansas has been a crucial geographical location where the railway traffic not only bridges east to west\, north to south but internationally from Canada to Mexico creating a bullseye in the center of the country.The recruitment of Mexican immigrant labor during the late 19th and 20th century expanded the railway and allowed for the economic growth of Newton\, and many similar cities in Kansas. These migrant workers who endured harsh working and living conditions managed\, through solidarity\, to forge tight-knit communities; all the while weathering a barrage of anti-immigrant political sentiment at the county\, state\, and national level. Via archival research\, I intend to shed light on the copiousness of Newton’s Mexican immigrant History through existing documents and pictures that have survived at the Kansas Historical nSociety\, Harvey County Historical Society\, and local church records. History has often been used as an instrument to advance the narrative of those in positions of power molding a one- dimensional historical memory. However\, history can also be a tool to correct the silencing of the past and its contributors. It is only through a complex analysis of this narrative that it is possible to fully understand the value of the contributions Mexican immigrants have made not only to Newton but to the State of Kansas and beyond.
URL:https://kauffmanmuseum.org/event/the-immigrants-who-built-newton-one-spike-at-a-time/
CATEGORIES:Bethel College,Kansas Day!,Kauffman Museum Association
ATTACH;FMTTYPE=image/png:https://kauffmanmuseum.org/wp-content/uploads/2021/01/Screen-Shot-2021-01-20-at-6.42.27-PM.png
END:VEVENT
END:VCALENDAR