BEGIN:VCALENDAR
VERSION:2.0
PRODID:-//Kauffman Museum - ECPv6.15.17.1//NONSGML v1.0//EN
CALSCALE:GREGORIAN
METHOD:PUBLISH
X-WR-CALNAME:Kauffman Museum
X-ORIGINAL-URL:https://kauffmanmuseum.org
X-WR-CALDESC:Events for Kauffman Museum
REFRESH-INTERVAL;VALUE=DURATION:PT1H
X-Robots-Tag:noindex
X-PUBLISHED-TTL:PT1H
BEGIN:VTIMEZONE
TZID:America/Chicago
BEGIN:DAYLIGHT
TZOFFSETFROM:-0600
TZOFFSETTO:-0500
TZNAME:CDT
DTSTART:20230312T080000
END:DAYLIGHT
BEGIN:STANDARD
TZOFFSETFROM:-0500
TZOFFSETTO:-0600
TZNAME:CST
DTSTART:20231105T070000
END:STANDARD
BEGIN:DAYLIGHT
TZOFFSETFROM:-0600
TZOFFSETTO:-0500
TZNAME:CDT
DTSTART:20240310T080000
END:DAYLIGHT
BEGIN:STANDARD
TZOFFSETFROM:-0500
TZOFFSETTO:-0600
TZNAME:CST
DTSTART:20241103T070000
END:STANDARD
BEGIN:DAYLIGHT
TZOFFSETFROM:-0600
TZOFFSETTO:-0500
TZNAME:CDT
DTSTART:20250309T080000
END:DAYLIGHT
BEGIN:STANDARD
TZOFFSETFROM:-0500
TZOFFSETTO:-0600
TZNAME:CST
DTSTART:20251102T070000
END:STANDARD
END:VTIMEZONE
BEGIN:VEVENT
DTSTART;TZID=America/Chicago:20240708T090000
DTEND;TZID=America/Chicago:20240712T113000
DTSTAMP:20260424T184006
CREATED:20240517T214434Z
LAST-MODIFIED:20240517T214810Z
UID:11033-1720429200-1720783800@kauffmanmuseum.org
SUMMARY:Uncle Carl's Camp: Farm Animals at the Museum
DESCRIPTION:July 8-12\, 9 a.m.-11:30 a.m. | Age: 6 to 8 (Completed Grade K-2) \nJump into farm life with Farm Animals at the Museum! Students will learn all about goats\, chickens\, sheep\, cows\, and pigs through activities that include art\, literature\, music\, and games. Real life farm animals will visit the museum each day\, and there will be plenty of time for petting and snuggles. Join us for this hands-on\, farm-tastic learning experience! \nLearn more or register here.
URL:https://kauffmanmuseum.org/event/uncle-carls-camp-farm-animals-at-the-museum-2/
LOCATION:Kauffman Museum\, 27th & Main St.\, North Newton\, KS\, 67117\, United States
CATEGORIES:Uncle Carl's Camp
ATTACH;FMTTYPE=image/png:https://kauffmanmuseum.org/wp-content/uploads/2024/03/Screenshot-2024-03-13-at-11.56.33 PM.png
ORGANIZER;CN="Andi Schmidt Andres":MAILTO:asa@bethelks.edu
END:VEVENT
BEGIN:VEVENT
DTSTART;TZID=America/Chicago:20240715T090000
DTEND;TZID=America/Chicago:20240719T110000
DTSTAMP:20260424T184006
CREATED:20240517T214736Z
LAST-MODIFIED:20240517T214736Z
UID:11035-1721034000-1721386800@kauffmanmuseum.org
SUMMARY:Uncle Carl's Camp: Prairie Animal Pals
DESCRIPTION:July 15-19\, 9 a.m.-11 a.m. | ge: 4 and 5 (Not Yet in Kindergarten) \nCome on a Prairie Pals adventure with us! We will find surprises all around as we learn about animals that make their homes on the prairie. We’ll discover animals that poke their heads out of the ground\, animals that fly in the air\, and animals that graze on the grass and hide in it. Be prepared to explore the prairie plot outside and prairie exhibits indoors. We can’t wait for you to be our pal! \nRegistration for this camp session is currently closed.
URL:https://kauffmanmuseum.org/event/uncle-carls-camp-prairie-animal-pals/
LOCATION:Kauffman Museum\, 27th & Main St.\, North Newton\, KS\, 67117\, United States
CATEGORIES:Uncle Carl's Camp
ATTACH;FMTTYPE=image/png:https://kauffmanmuseum.org/wp-content/uploads/2024/03/Screenshot-2024-03-13-at-11.56.33 PM.png
ORGANIZER;CN="Andi Schmidt Andres":MAILTO:asa@bethelks.edu
END:VEVENT
END:VCALENDAR