BEGIN:VCALENDAR
VERSION:2.0
PRODID:-//Kauffman Museum - ECPv6.15.17.1//NONSGML v1.0//EN
CALSCALE:GREGORIAN
METHOD:PUBLISH
X-WR-CALNAME:Kauffman Museum
X-ORIGINAL-URL:https://kauffmanmuseum.org
X-WR-CALDESC:Events for Kauffman Museum
REFRESH-INTERVAL;VALUE=DURATION:PT1H
X-Robots-Tag:noindex
X-PUBLISHED-TTL:PT1H
BEGIN:VTIMEZONE
TZID:America/Chicago
BEGIN:DAYLIGHT
TZOFFSETFROM:-0600
TZOFFSETTO:-0500
TZNAME:CDT
DTSTART:20230312T080000
END:DAYLIGHT
BEGIN:STANDARD
TZOFFSETFROM:-0500
TZOFFSETTO:-0600
TZNAME:CST
DTSTART:20231105T070000
END:STANDARD
BEGIN:DAYLIGHT
TZOFFSETFROM:-0600
TZOFFSETTO:-0500
TZNAME:CDT
DTSTART:20240310T080000
END:DAYLIGHT
BEGIN:STANDARD
TZOFFSETFROM:-0500
TZOFFSETTO:-0600
TZNAME:CST
DTSTART:20241103T070000
END:STANDARD
BEGIN:DAYLIGHT
TZOFFSETFROM:-0600
TZOFFSETTO:-0500
TZNAME:CDT
DTSTART:20250309T080000
END:DAYLIGHT
BEGIN:STANDARD
TZOFFSETFROM:-0500
TZOFFSETTO:-0600
TZNAME:CST
DTSTART:20251102T070000
END:STANDARD
END:VTIMEZONE
BEGIN:VEVENT
DTSTART;TZID=America/Chicago:20240603T090000
DTEND;TZID=America/Chicago:20240607T120000
DTSTAMP:20260424T201953
CREATED:20240517T213104Z
LAST-MODIFIED:20240517T213104Z
UID:11025-1717405200-1717761600@kauffmanmuseum.org
SUMMARY:Uncle Carls Camp 2024: Creative Writing Camp
DESCRIPTION:June 3-7\, 9 a.m.-12 p.m. | Age: 13 to 18 (Completed Grade 7-12) \nWhether you’re a seasoned wordsmith or just beginning to explore the power of storytelling\, this camp offers a welcoming space for all writers. Throughout camp\, you’ll be encouraged to explore the works of environmental writers\, science fiction visionaries\, and masters of various genres\, igniting your passion for storytelling. Unleash your imagination as you participate in group activities\, peer critiques\, and stimulating discussions that foster a supportive writing community. \nLearn more and register here.
URL:https://kauffmanmuseum.org/event/uncle-carls-camp-2024-creative-writing-camp/
LOCATION:Kauffman Museum\, 27th & Main St.\, North Newton\, KS\, 67117\, United States
CATEGORIES:Uncle Carl's Camp
ATTACH;FMTTYPE=image/png:https://kauffmanmuseum.org/wp-content/uploads/2024/03/Screenshot-2024-03-13-at-11.56.33 PM.png
ORGANIZER;CN="Andi Schmidt Andres":MAILTO:asa@bethelks.edu
END:VEVENT
BEGIN:VEVENT
DTSTART;TZID=America/Chicago:20240610T090000
DTEND;TZID=America/Chicago:20240614T113000
DTSTAMP:20260424T201953
CREATED:20240517T213532Z
LAST-MODIFIED:20240517T214945Z
UID:11027-1718010000-1718364600@kauffmanmuseum.org
SUMMARY:Uncle Carl's Camp: Prairie Ponderings
DESCRIPTION:June 10-14\, 9 a.m.-11:30 a.m. | Age: 9 to 12 (Completed Grade 3-6) \nCampers will experience the prairie and explore the insects\, birds\, and plants that call the grasses home. Campers will use science\, art and play to engage the senses and learn about prairie lifecycles and diversity. We’ll even engage in real science experiments that help wildlife conservation through citizen science. \nLearn more and register here.
URL:https://kauffmanmuseum.org/event/uncle-carls-camp-prairie-ponderings/
LOCATION:Kauffman Museum\, 27th & Main St.\, North Newton\, KS\, 67117\, United States
CATEGORIES:Uncle Carl's Camp
ATTACH;FMTTYPE=image/png:https://kauffmanmuseum.org/wp-content/uploads/2024/03/Screenshot-2024-03-13-at-11.56.33 PM.png
ORGANIZER;CN="Andi Schmidt Andres":MAILTO:asa@bethelks.edu
END:VEVENT
BEGIN:VEVENT
DTSTART;TZID=America/Chicago:20240617T090000
DTEND;TZID=America/Chicago:20240621T110000
DTSTAMP:20260424T201953
CREATED:20240517T213745Z
LAST-MODIFIED:20240517T213849Z
UID:11029-1718614800-1718967600@kauffmanmuseum.org
SUMMARY:Uncle Carl's Camp: Behind the Mask 1
DESCRIPTION:June 17-21\, 9 a.m.-11 a.m. | Age: 6 to 8 (Completed Grade K-2) \nWho in the world wears masks? Explore cultures that make masks and the kinds of ceremonies where people wear masks. Learn about Native American\, African\, Central American and Asian mask traditions. Campers will use a variety of materials to create masks. \nRegistration for this camp session is currently closed.
URL:https://kauffmanmuseum.org/event/uncle-carls-camp-behind-the-mask-1/
LOCATION:Kauffman Museum\, 27th & Main St.\, North Newton\, KS\, 67117\, United States
CATEGORIES:Uncle Carl's Camp
ATTACH;FMTTYPE=image/png:https://kauffmanmuseum.org/wp-content/uploads/2024/03/Screenshot-2024-03-13-at-11.56.33 PM.png
ORGANIZER;CN="Andi Schmidt Andres":MAILTO:asa@bethelks.edu
END:VEVENT
BEGIN:VEVENT
DTSTART;TZID=America/Chicago:20240624T090000
DTEND;TZID=America/Chicago:20240628T113000
DTSTAMP:20260424T201953
CREATED:20240517T214154Z
LAST-MODIFIED:20240517T214848Z
UID:11031-1719219600-1719574200@kauffmanmuseum.org
SUMMARY:Uncle Carl's Camp: Behind the Mask 2
DESCRIPTION:June 24-28\, 9 a.m.-11:30 a.m. | 9 to 12 (Completed Grade 3-6) \nCampers will explore cultures that make masks and the ceremonies of those cultures. Native American traditions and the influence of African cultures on today’s American celebrations\, such as Mardi Gras in New Orleans\, will provide ideas for mask making projects. Campers will create masks from a variety of cultures from various materials. \nLearn more and register here.
URL:https://kauffmanmuseum.org/event/uncle-carls-camp-behind-the-mask-2/
LOCATION:Kauffman Museum\, 27th & Main St.\, North Newton\, KS\, 67117\, United States
CATEGORIES:Uncle Carl's Camp
ATTACH;FMTTYPE=image/png:https://kauffmanmuseum.org/wp-content/uploads/2024/03/Screenshot-2024-03-13-at-11.56.33 PM.png
ORGANIZER;CN="Andi Schmidt Andres":MAILTO:asa@bethelks.edu
END:VEVENT
END:VCALENDAR