BEGIN:VCALENDAR
VERSION:2.0
PRODID:-//Kauffman Museum - ECPv6.15.17.1//NONSGML v1.0//EN
CALSCALE:GREGORIAN
METHOD:PUBLISH
X-ORIGINAL-URL:https://kauffmanmuseum.org
X-WR-CALDESC:Events for Kauffman Museum
REFRESH-INTERVAL;VALUE=DURATION:PT1H
X-Robots-Tag:noindex
X-PUBLISHED-TTL:PT1H
BEGIN:VTIMEZONE
TZID:America/Chicago
BEGIN:DAYLIGHT
TZOFFSETFROM:-0600
TZOFFSETTO:-0500
TZNAME:CDT
DTSTART:20210314T080000
END:DAYLIGHT
BEGIN:STANDARD
TZOFFSETFROM:-0500
TZOFFSETTO:-0600
TZNAME:CST
DTSTART:20211107T070000
END:STANDARD
BEGIN:DAYLIGHT
TZOFFSETFROM:-0600
TZOFFSETTO:-0500
TZNAME:CDT
DTSTART:20220313T080000
END:DAYLIGHT
BEGIN:STANDARD
TZOFFSETFROM:-0500
TZOFFSETTO:-0600
TZNAME:CST
DTSTART:20221106T070000
END:STANDARD
BEGIN:DAYLIGHT
TZOFFSETFROM:-0600
TZOFFSETTO:-0500
TZNAME:CDT
DTSTART:20230312T080000
END:DAYLIGHT
BEGIN:STANDARD
TZOFFSETFROM:-0500
TZOFFSETTO:-0600
TZNAME:CST
DTSTART:20231105T070000
END:STANDARD
END:VTIMEZONE
BEGIN:VEVENT
DTSTART;TZID=America/Chicago:20221008T133000
DTEND;TZID=America/Chicago:20221008T143000
DTSTAMP:20260424T152832
CREATED:20220905T234338Z
LAST-MODIFIED:20220905T234338Z
UID:9574-1665235800-1665239400@kauffmanmuseum.org
SUMMARY:Fall Festival | “The Oldest Books in the Museum's Collection” by Mark Jantzen\, Bethel College Professor of History
DESCRIPTION:Kauffman Museum owns a number of cuneiform tablets that are over 4\,000 years old. These ancient writings provide insight into a culture that goes back to the very beginnings of organized\, urban life in Mesopotamia\, the ancient Near East. Hundreds of Bethel students have been introduced to these objects in the class History of Civilization instituted by Professor Keith Sprunger almost sixty years ago. This Fall Fest program will be led by Professor Jantzen (85’)\, the current instructor.
URL:https://kauffmanmuseum.org/event/fall-festival-the-oldest-books-in-the-museums-collection-by-mark-jantzen-bethel-college-professor-of-history/
LOCATION:Kauffman Museum\, 27th & Main St.\, North Newton\, KS\, 67117\, United States
CATEGORIES:Bethel College,Fall Festival,Intergenerational,Museum Event,Senior Event
ATTACH;FMTTYPE=image/jpeg:https://kauffmanmuseum.org/wp-content/uploads/2022/09/IMG_1224-cuneiform.jpg
ORGANIZER;CN="Andi Schmidt Andres":MAILTO:asa@bethelks.edu
END:VEVENT
END:VCALENDAR