BEGIN:VCALENDAR
VERSION:2.0
PRODID:-//Kauffman Museum - ECPv6.15.17.1//NONSGML v1.0//EN
CALSCALE:GREGORIAN
METHOD:PUBLISH
X-WR-CALNAME:Kauffman Museum
X-ORIGINAL-URL:https://kauffmanmuseum.org
X-WR-CALDESC:Events for Kauffman Museum
REFRESH-INTERVAL;VALUE=DURATION:PT1H
X-Robots-Tag:noindex
X-PUBLISHED-TTL:PT1H
BEGIN:VTIMEZONE
TZID:America/Chicago
BEGIN:DAYLIGHT
TZOFFSETFROM:-0600
TZOFFSETTO:-0500
TZNAME:CDT
DTSTART:20210314T080000
END:DAYLIGHT
BEGIN:STANDARD
TZOFFSETFROM:-0500
TZOFFSETTO:-0600
TZNAME:CST
DTSTART:20211107T070000
END:STANDARD
BEGIN:DAYLIGHT
TZOFFSETFROM:-0600
TZOFFSETTO:-0500
TZNAME:CDT
DTSTART:20220313T080000
END:DAYLIGHT
BEGIN:STANDARD
TZOFFSETFROM:-0500
TZOFFSETTO:-0600
TZNAME:CST
DTSTART:20221106T070000
END:STANDARD
BEGIN:DAYLIGHT
TZOFFSETFROM:-0600
TZOFFSETTO:-0500
TZNAME:CDT
DTSTART:20230312T080000
END:DAYLIGHT
BEGIN:STANDARD
TZOFFSETFROM:-0500
TZOFFSETTO:-0600
TZNAME:CST
DTSTART:20231105T070000
END:STANDARD
END:VTIMEZONE
BEGIN:VEVENT
DTSTART;TZID=America/Chicago:20220918T150000
DTEND;TZID=America/Chicago:20220918T160000
DTSTAMP:20260424T165311
CREATED:20220905T233952Z
LAST-MODIFIED:20240220T015324Z
UID:9571-1663513200-1663516800@kauffmanmuseum.org
SUMMARY:Sunday-Afternoon-at-the-Museum | “Decommissioned Missile Silo Sites: Reminders of Our Past and Future” by Nate Hofer
DESCRIPTION:Following a short business meeting of the Kauffman Museum Association\, World Peace Photo award winner Nate Hofer will discuss making photographs of decommissioned nuclear missile silos. Nate’s project included finding and traveling to the sites\, talking with landowners\, and considering why he takes the photos and whether he really is a legitimate photographer. This program is held in conjunction with the current special exhibition “The Magic of Things\,” a collection of not often seen museum artifacts including a Nuclear Free Zone t-shirt from 1984 when North Newton\, KS\, officially became a Nuclear Free Zone. \n  \nView the event recording.
URL:https://kauffmanmuseum.org/event/sunday-afternoon-at-the-museum-decommissioned-missile-silo-sites-reminders-of-our-past-and-future-by-nate-hofer/
LOCATION:Kauffman Museum\, 27th & Main St.\, North Newton\, KS\, 67117\, United States
CATEGORIES:Intergenerational,Museum Event,Senior Event,Sunday Afternoon at the Museum (SAM)
ATTACH;FMTTYPE=image/jpeg:https://kauffmanmuseum.org/wp-content/uploads/2022/09/natehofer-headshot.jpg
ORGANIZER;CN="Andi Schmidt Andres":MAILTO:asa@bethelks.edu
END:VEVENT
END:VCALENDAR