BEGIN:VCALENDAR
VERSION:2.0
PRODID:-//Kauffman Museum - ECPv6.15.17.1//NONSGML v1.0//EN
CALSCALE:GREGORIAN
METHOD:PUBLISH
X-ORIGINAL-URL:https://kauffmanmuseum.org
X-WR-CALDESC:Events for Kauffman Museum
REFRESH-INTERVAL;VALUE=DURATION:PT1H
X-Robots-Tag:noindex
X-PUBLISHED-TTL:PT1H
BEGIN:VTIMEZONE
TZID:America/Chicago
BEGIN:DAYLIGHT
TZOFFSETFROM:-0600
TZOFFSETTO:-0500
TZNAME:CDT
DTSTART:20230312T080000
END:DAYLIGHT
BEGIN:STANDARD
TZOFFSETFROM:-0500
TZOFFSETTO:-0600
TZNAME:CST
DTSTART:20231105T070000
END:STANDARD
BEGIN:DAYLIGHT
TZOFFSETFROM:-0600
TZOFFSETTO:-0500
TZNAME:CDT
DTSTART:20240310T080000
END:DAYLIGHT
BEGIN:STANDARD
TZOFFSETFROM:-0500
TZOFFSETTO:-0600
TZNAME:CST
DTSTART:20241103T070000
END:STANDARD
BEGIN:DAYLIGHT
TZOFFSETFROM:-0600
TZOFFSETTO:-0500
TZNAME:CDT
DTSTART:20250309T080000
END:DAYLIGHT
BEGIN:STANDARD
TZOFFSETFROM:-0500
TZOFFSETTO:-0600
TZNAME:CST
DTSTART:20251102T070000
END:STANDARD
END:VTIMEZONE
BEGIN:VEVENT
DTSTART;TZID=America/Chicago:20240505T150000
DTEND;TZID=America/Chicago:20240505T160000
DTSTAMP:20260420T034443
CREATED:20240130T225747Z
LAST-MODIFIED:20240430T193210Z
UID:10716-1714921200-1714924800@kauffmanmuseum.org
SUMMARY:Sunday-Afternoon-at-the-Museum: "Birds and Birders Connect Kansas to the World" – Stan Senner\, Vice President for Bird Conservation (retired)\, National Audubon Society
DESCRIPTION:May 5\, 2024 | Stan Senner will draw on 50 years’ experience in ornithology and natural-resource conservation to describe the amazing feats of migratory birds\, how they connect Kansas to distant lands and peoples\, and what their migrations mean for bird conservation at home and abroad. \nFunding for this program is provided by Humanities Kansas\, a nonprofit cultural organization that connects Kansans with stories\, ideas\, and each other to strengthen our communities.
URL:https://kauffmanmuseum.org/event/sunday-afternoon-at-the-museum-stan-senner-national-audobon-society/
LOCATION:Kauffman Museum\, 27th & Main St.\, North Newton\, KS\, 67117\, United States
CATEGORIES:Sunday Afternoon at the Museum (SAM)
ATTACH;FMTTYPE=image/jpeg:https://kauffmanmuseum.org/wp-content/uploads/2024/01/Stan-Senner_LinkedIn.jpeg
ORGANIZER;CN="Andi Schmidt Andres":MAILTO:asa@bethelks.edu
END:VEVENT
END:VCALENDAR