BEGIN:VCALENDAR
VERSION:2.0
PRODID:-//Kauffman Museum - ECPv6.15.17.1//NONSGML v1.0//EN
CALSCALE:GREGORIAN
METHOD:PUBLISH
X-WR-CALNAME:Kauffman Museum
X-ORIGINAL-URL:https://kauffmanmuseum.org
X-WR-CALDESC:Events for Kauffman Museum
REFRESH-INTERVAL;VALUE=DURATION:PT1H
X-Robots-Tag:noindex
X-PUBLISHED-TTL:PT1H
BEGIN:VTIMEZONE
TZID:America/Chicago
BEGIN:DAYLIGHT
TZOFFSETFROM:-0600
TZOFFSETTO:-0500
TZNAME:CDT
DTSTART:20230312T080000
END:DAYLIGHT
BEGIN:STANDARD
TZOFFSETFROM:-0500
TZOFFSETTO:-0600
TZNAME:CST
DTSTART:20231105T070000
END:STANDARD
BEGIN:DAYLIGHT
TZOFFSETFROM:-0600
TZOFFSETTO:-0500
TZNAME:CDT
DTSTART:20240310T080000
END:DAYLIGHT
BEGIN:STANDARD
TZOFFSETFROM:-0500
TZOFFSETTO:-0600
TZNAME:CST
DTSTART:20241103T070000
END:STANDARD
BEGIN:DAYLIGHT
TZOFFSETFROM:-0600
TZOFFSETTO:-0500
TZNAME:CDT
DTSTART:20250309T080000
END:DAYLIGHT
BEGIN:STANDARD
TZOFFSETFROM:-0500
TZOFFSETTO:-0600
TZNAME:CST
DTSTART:20251102T070000
END:STANDARD
END:VTIMEZONE
BEGIN:VEVENT
DTSTART;TZID=America/Chicago:20240601T090000
DTEND;TZID=America/Chicago:20240601T100000
DTSTAMP:20260424T201902
CREATED:20240517T212618Z
LAST-MODIFIED:20240529T151058Z
UID:11023-1717232400-1717236000@kauffmanmuseum.org
SUMMARY:Wildflower Walk with Brad Guhr
DESCRIPTION:As part of our season-long celebration of the 40th anniversary of the Tallgrass Prairie Reconstruction at Kauffman Museum\, Brad Guhr\, education director from Dyck Arboretum of the Plains\, will lead a wildflower walk around the prairie reconstruction at Kauffman Museum in search of flowers both unique and familiar. \nJoin us!
URL:https://kauffmanmuseum.org/event/wildflower-walk-with-brad-guhr-education-director-dyck-arboretum-of-the-plains/
LOCATION:Kauffman Museum\, 27th & Main St.\, North Newton\, KS\, 67117\, United States
CATEGORIES:Nature
ATTACH;FMTTYPE=image/jpeg:https://kauffmanmuseum.org/wp-content/uploads/2020/04/Prairie-Burn-2020.jpg
ORGANIZER;CN="Andi Schmidt Andres":MAILTO:asa@bethelks.edu
END:VEVENT
END:VCALENDAR