BEGIN:VCALENDAR
VERSION:2.0
PRODID:-//Kauffman Museum - ECPv6.15.17.1//NONSGML v1.0//EN
CALSCALE:GREGORIAN
METHOD:PUBLISH
X-WR-CALNAME:Kauffman Museum
X-ORIGINAL-URL:https://kauffmanmuseum.org
X-WR-CALDESC:Events for Kauffman Museum
REFRESH-INTERVAL;VALUE=DURATION:PT1H
X-Robots-Tag:noindex
X-PUBLISHED-TTL:PT1H
BEGIN:VTIMEZONE
TZID:America/Chicago
BEGIN:DAYLIGHT
TZOFFSETFROM:-0600
TZOFFSETTO:-0500
TZNAME:CDT
DTSTART:20230312T080000
END:DAYLIGHT
BEGIN:STANDARD
TZOFFSETFROM:-0500
TZOFFSETTO:-0600
TZNAME:CST
DTSTART:20231105T070000
END:STANDARD
BEGIN:DAYLIGHT
TZOFFSETFROM:-0600
TZOFFSETTO:-0500
TZNAME:CDT
DTSTART:20240310T080000
END:DAYLIGHT
BEGIN:STANDARD
TZOFFSETFROM:-0500
TZOFFSETTO:-0600
TZNAME:CST
DTSTART:20241103T070000
END:STANDARD
BEGIN:DAYLIGHT
TZOFFSETFROM:-0600
TZOFFSETTO:-0500
TZNAME:CDT
DTSTART:20250309T080000
END:DAYLIGHT
BEGIN:STANDARD
TZOFFSETFROM:-0500
TZOFFSETTO:-0600
TZNAME:CST
DTSTART:20251102T070000
END:STANDARD
END:VTIMEZONE
BEGIN:VEVENT
DTSTART;TZID=America/Chicago:20240428T163000
DTEND;TZID=America/Chicago:20240428T180000
DTSTAMP:20260424T230119
CREATED:20240325T192647Z
LAST-MODIFIED:20240325T192748Z
UID:10926-1714321800-1714327200@kauffmanmuseum.org
SUMMARY:Faspa: Mennonite Charcuterie
DESCRIPTION:Our Spring Celebration! Celebrate the coming of spring with a take-away Faspa meal. Mennonite communities have been sharing faspa\, a light evening meal of bread\, meat\, jam\, and cheese\, for centuries. Here’s your chance to share in that tradition! Register for a meal and pick up raffle tickets for prizes here: Faspa: Mennonite Charcuterie 2024.
URL:https://kauffmanmuseum.org/event/faspa-mennonite-charcuterie-3/
LOCATION:Kauffman Museum\, 27th & Main St.\, North Newton\, KS\, 67117\, United States
CATEGORIES:Food,Museum Event
ATTACH;FMTTYPE=image/png:https://kauffmanmuseum.org/wp-content/uploads/2023/03/Faspa_Web_Graphic-Square.png
ORGANIZER;CN="Andi Schmidt Andres":MAILTO:asa@bethelks.edu
END:VEVENT
END:VCALENDAR