BEGIN:VCALENDAR
VERSION:2.0
PRODID:-//Kauffman Museum - ECPv6.15.17.1//NONSGML v1.0//EN
CALSCALE:GREGORIAN
METHOD:PUBLISH
X-ORIGINAL-URL:https://kauffmanmuseum.org
X-WR-CALDESC:Events for Kauffman Museum
REFRESH-INTERVAL;VALUE=DURATION:PT1H
X-Robots-Tag:noindex
X-PUBLISHED-TTL:PT1H
BEGIN:VTIMEZONE
TZID:America/Chicago
BEGIN:DAYLIGHT
TZOFFSETFROM:-0600
TZOFFSETTO:-0500
TZNAME:CDT
DTSTART:20190310T080000
END:DAYLIGHT
BEGIN:STANDARD
TZOFFSETFROM:-0500
TZOFFSETTO:-0600
TZNAME:CST
DTSTART:20191103T070000
END:STANDARD
BEGIN:DAYLIGHT
TZOFFSETFROM:-0600
TZOFFSETTO:-0500
TZNAME:CDT
DTSTART:20200308T080000
END:DAYLIGHT
BEGIN:STANDARD
TZOFFSETFROM:-0500
TZOFFSETTO:-0600
TZNAME:CST
DTSTART:20201101T070000
END:STANDARD
BEGIN:DAYLIGHT
TZOFFSETFROM:-0600
TZOFFSETTO:-0500
TZNAME:CDT
DTSTART:20210314T080000
END:DAYLIGHT
BEGIN:STANDARD
TZOFFSETFROM:-0500
TZOFFSETTO:-0600
TZNAME:CST
DTSTART:20211107T070000
END:STANDARD
END:VTIMEZONE
BEGIN:VEVENT
DTSTART;TZID=America/Chicago:20200502T080000
DTEND;TZID=America/Chicago:20200502T090000
DTSTAMP:20260420T200010
CREATED:20200403T202724Z
LAST-MODIFIED:20200608T212343Z
UID:4439-1588406400-1588410000@kauffmanmuseum.org
SUMMARY:First Saturday Bird Walk
DESCRIPTION:The Kauffman Museum First Saturday Bird Walk for May is cancelled.\nPlease take some time to go outdoors on your own. The birds seem especially happy to be singing for us this year. What a nice gift to remind us that spring is on its way\, virus or no virus!
URL:https://kauffmanmuseum.org/event/first-saturday-bird-walk-3/
LOCATION:Kauffman Museum\, 27th & Main St.\, North Newton\, KS\, 67117\, United States
CATEGORIES:Bird Walk
ORGANIZER;CN="Andi Schmidt Andres":MAILTO:asa@bethelks.edu
END:VEVENT
END:VCALENDAR