BEGIN:VCALENDAR
VERSION:2.0
PRODID:-//Kauffman Museum - ECPv6.15.17.1//NONSGML v1.0//EN
CALSCALE:GREGORIAN
METHOD:PUBLISH
X-WR-CALNAME:Kauffman Museum
X-ORIGINAL-URL:https://kauffmanmuseum.org
X-WR-CALDESC:Events for Kauffman Museum
REFRESH-INTERVAL;VALUE=DURATION:PT1H
X-Robots-Tag:noindex
X-PUBLISHED-TTL:PT1H
BEGIN:VTIMEZONE
TZID:America/Chicago
BEGIN:DAYLIGHT
TZOFFSETFROM:-0600
TZOFFSETTO:-0500
TZNAME:CDT
DTSTART:20250309T080000
END:DAYLIGHT
BEGIN:STANDARD
TZOFFSETFROM:-0500
TZOFFSETTO:-0600
TZNAME:CST
DTSTART:20251102T070000
END:STANDARD
BEGIN:DAYLIGHT
TZOFFSETFROM:-0600
TZOFFSETTO:-0500
TZNAME:CDT
DTSTART:20260308T080000
END:DAYLIGHT
BEGIN:STANDARD
TZOFFSETFROM:-0500
TZOFFSETTO:-0600
TZNAME:CST
DTSTART:20261101T070000
END:STANDARD
BEGIN:DAYLIGHT
TZOFFSETFROM:-0600
TZOFFSETTO:-0500
TZNAME:CDT
DTSTART:20270314T080000
END:DAYLIGHT
BEGIN:STANDARD
TZOFFSETFROM:-0500
TZOFFSETTO:-0600
TZNAME:CST
DTSTART:20271107T070000
END:STANDARD
END:VTIMEZONE
BEGIN:VEVENT
DTSTART;TZID=America/Chicago:20260422T120000
DTEND;TZID=America/Chicago:20260422T130000
DTSTAMP:20260422T094942
CREATED:20260415T213807Z
LAST-MODIFIED:20260415T213918Z
UID:12511-1776859200-1776862800@kauffmanmuseum.org
SUMMARY:Earth Day Event: Goats at the Museum with Jason Schmidt\, grounds and land manager\, Bethel College
DESCRIPTION:Jason Schmidt will give a brief presentation on the lawn in front of Kauffman Museum on the use of goats to control volunteer trees and shrubs on Bethel College campus. Jason will also move his shrub-controlling goats into the woodland on KM grounds with the goal of knocking back bush honeysuckle and unwanted tree seedlings. \nThe event is a BYO-picnic; bring food and something to sit on\, enjoy a little info on natural remedies for overgrown areas\, and get to see some goats in the process!
URL:https://kauffmanmuseum.org/event/earth-day-event-goats-at-the-museum-with-jason-schmidt-grounds-and-land-manager-bethel-college/
CATEGORIES:Nature
ATTACH;FMTTYPE=image/jpeg:https://kauffmanmuseum.org/wp-content/uploads/2026/04/IMG_2372-crop2-768x576-1.jpeg
END:VEVENT
END:VCALENDAR